BEGIN:VCALENDAR
VERSION:2.0
PRODID:-//Valley Church - ECPv6.15.20//NONSGML v1.0//EN
CALSCALE:GREGORIAN
METHOD:PUBLISH
X-ORIGINAL-URL:https://valley.church
X-WR-CALDESC:Events for Valley Church
REFRESH-INTERVAL;VALUE=DURATION:PT1H
X-Robots-Tag:noindex
X-PUBLISHED-TTL:PT1H
BEGIN:VTIMEZONE
TZID:America/New_York
BEGIN:DAYLIGHT
TZOFFSETFROM:-0500
TZOFFSETTO:-0400
TZNAME:EDT
DTSTART:20250309T070000
END:DAYLIGHT
BEGIN:STANDARD
TZOFFSETFROM:-0400
TZOFFSETTO:-0500
TZNAME:EST
DTSTART:20251102T060000
END:STANDARD
BEGIN:DAYLIGHT
TZOFFSETFROM:-0500
TZOFFSETTO:-0400
TZNAME:EDT
DTSTART:20260308T070000
END:DAYLIGHT
BEGIN:STANDARD
TZOFFSETFROM:-0400
TZOFFSETTO:-0500
TZNAME:EST
DTSTART:20261101T060000
END:STANDARD
BEGIN:DAYLIGHT
TZOFFSETFROM:-0500
TZOFFSETTO:-0400
TZNAME:EDT
DTSTART:20270314T070000
END:DAYLIGHT
BEGIN:STANDARD
TZOFFSETFROM:-0400
TZOFFSETTO:-0500
TZNAME:EST
DTSTART:20271107T060000
END:STANDARD
END:VTIMEZONE
BEGIN:VTIMEZONE
TZID:UTC
BEGIN:STANDARD
TZOFFSETFROM:+0000
TZOFFSETTO:+0000
TZNAME:UTC
DTSTART:20240101T000000
END:STANDARD
END:VTIMEZONE
BEGIN:VEVENT
DTSTART;VALUE=DATE:20260103
DTEND;VALUE=DATE:20260302
DTSTAMP:20260423T060017
CREATED:20251017T150407Z
LAST-MODIFIED:20251110T150758Z
UID:10004100-1767398400-1772409599@valley.church
SUMMARY:Upward Youth Basketball & Cheer
DESCRIPTION:
URL:https://valley.church/event/upward-youth-basketball-cheer/
LOCATION:Valley Community Center\, 4444 Fuller Rd\, West Des Moines\, IA\, 50265\, United States
CATEGORIES:Children
ATTACH;FMTTYPE=image/png:https://valley.church/wp-content/uploads/2025/10/Abundant-Joy-Dice-Game-slide-3.png
END:VEVENT
BEGIN:VEVENT
DTSTART;TZID=UTC:20251022T180000
DTEND;TZID=UTC:20251022T200000
DTSTAMP:20260423T060017
CREATED:20250715T004311Z
LAST-MODIFIED:20251001T180021Z
UID:10003946-1761156000-1761163200@valley.church
SUMMARY:The Great Pumpkin Party
DESCRIPTION:[vc_row type=”in_container” full_screen_row_position=”middle” column_margin=”default” column_direction=”default” column_direction_tablet=”default” column_direction_phone=”default” scene_position=”center” text_color=”dark” text_align=”left” row_border_radius=”none” row_border_radius_applies=”bg” overflow=”visible” overlay_strength=”0.3″ gradient_direction=”left_to_right” shape_divider_position=”bottom” bg_image_animation=”none”][vc_column column_padding=”no-extra-padding” column_padding_tablet=”inherit” column_padding_phone=”inherit” column_padding_position=”all” column_element_direction_desktop=”default” column_element_spacing=”default” desktop_text_alignment=”default” tablet_text_alignment=”default” phone_text_alignment=”default” background_color_opacity=”1″ background_hover_color_opacity=”1″ column_backdrop_filter=”none” column_shadow=”none” column_border_radius=”none” column_link_target=”_self” column_position=”default” gradient_direction=”left_to_right” overlay_strength=”0.3″ width=”1/1″ tablet_width_inherit=”default” animation_type=”default” bg_image_animation=”none” border_type=”simple” column_border_width=”none” column_border_style=”solid”][vc_column_text]Our annual Great Pumpkin Party is just around the corner! Invite your friends and family to the best party of the fall! Don’t miss this party thrown BY Valley Church FOR our community! Put on your friendly costumes and join us for inflatables\, carnival games\, free popcorn\, and more![/vc_column_text][/vc_column][/vc_row][vc_row type=”in_container” full_screen_row_position=”middle” column_margin=”default” column_direction=”default” column_direction_tablet=”default” column_direction_phone=”default” scene_position=”center” text_color=”dark” text_align=”left” row_border_radius=”none” row_border_radius_applies=”bg” overflow=”visible” overlay_strength=”0.3″ gradient_direction=”left_to_right” shape_divider_position=”bottom” bg_image_animation=”none”][vc_column column_padding=”no-extra-padding” column_padding_tablet=”inherit” column_padding_phone=”inherit” column_padding_position=”all” column_element_direction_desktop=”default” column_element_spacing=”default” desktop_text_alignment=”default” tablet_text_alignment=”default” phone_text_alignment=”default” background_color_opacity=”1″ background_hover_color_opacity=”1″ column_backdrop_filter=”none” column_shadow=”none” column_border_radius=”none” column_link_target=”_self” column_position=”default” gradient_direction=”left_to_right” overlay_strength=”0.3″ width=”1/2″ tablet_width_inherit=”default” animation_type=”default” bg_image_animation=”none” border_type=”simple” column_border_width=”none” column_border_style=”solid”][nectar_btn size=”large” button_style=”regular” button_color_2=”Accent-Color” icon_family=”none” text=”LEARN MORE” url=”https://valley.church/great-pumpkin-party/”][/vc_column][vc_column column_padding=”no-extra-padding” column_padding_tablet=”inherit” column_padding_phone=”inherit” column_padding_position=”all” column_element_direction_desktop=”default” column_element_spacing=”default” desktop_text_alignment=”default” tablet_text_alignment=”default” phone_text_alignment=”default” background_color_opacity=”1″ background_hover_color_opacity=”1″ column_backdrop_filter=”none” column_shadow=”none” column_border_radius=”none” column_link_target=”_self” column_position=”default” gradient_direction=”left_to_right” overlay_strength=”0.3″ width=”1/2″ tablet_width_inherit=”default” animation_type=”default” bg_image_animation=”none” border_type=”simple” column_border_width=”none” column_border_style=”solid”][nectar_btn size=”large” button_style=”regular” button_color_2=”Accent-Color” icon_family=”none” text=”VOLUNTEER” url=”https://form.everestwebdeals.co/?form=bc503735c20614df2d7cb3460a421a9c”][/vc_column][/vc_row]
URL:https://valley.church/event/the-great-pumpkin-party/2025-10-22/
LOCATION:Valley Church\, 4343 Fuller Rd\, We\, IA\, 50265\, United States
CATEGORIES:Children,Community Center,Students
ATTACH;FMTTYPE=image/png:https://valley.church/wp-content/uploads/2025/09/GPP-2025-Slides-2.png
END:VEVENT
BEGIN:VEVENT
DTSTART;TZID=UTC:20251019T180000
DTEND;TZID=UTC:20251019T200000
DTSTAMP:20260423T060017
CREATED:20250715T012837Z
LAST-MODIFIED:20251001T175641Z
UID:10003947-1760896800-1760904000@valley.church
SUMMARY:The Great Pumpkin Party - A Night For Families With Special Needs
DESCRIPTION:[vc_row type=”in_container” full_screen_row_position=”middle” column_margin=”default” column_direction=”default” column_direction_tablet=”default” column_direction_phone=”default” scene_position=”center” text_color=”dark” text_align=”left” row_border_radius=”none” row_border_radius_applies=”bg” overflow=”visible” overlay_strength=”0.3″ gradient_direction=”left_to_right” shape_divider_position=”bottom” bg_image_animation=”none”][vc_column column_padding=”no-extra-padding” column_padding_tablet=”inherit” column_padding_phone=”inherit” column_padding_position=”all” column_element_direction_desktop=”default” column_element_spacing=”default” desktop_text_alignment=”default” tablet_text_alignment=”default” phone_text_alignment=”default” background_color_opacity=”1″ background_hover_color_opacity=”1″ column_backdrop_filter=”none” column_shadow=”none” column_border_radius=”none” column_link_target=”_self” column_position=”default” gradient_direction=”left_to_right” overlay_strength=”0.3″ width=”1/1″ tablet_width_inherit=”default” animation_type=”default” bg_image_animation=”none” border_type=”simple” column_border_width=”none” column_border_style=”solid”][vc_column_text]Join us on Sunday\, October 19\, for Families With Special Needs Night. The same Great Pumpkin Party\, but with extra accommodations. Put on your friendly costumes and join us for inflatables\, carnival games\, free popcorn\, and more![/vc_column_text][/vc_column][/vc_row][vc_row type=”in_container” full_screen_row_position=”middle” column_margin=”default” column_direction=”default” column_direction_tablet=”default” column_direction_phone=”default” scene_position=”center” text_color=”dark” text_align=”left” row_border_radius=”none” row_border_radius_applies=”bg” overflow=”visible” overlay_strength=”0.3″ gradient_direction=”left_to_right” shape_divider_position=”bottom” bg_image_animation=”none”][vc_column column_padding=”no-extra-padding” column_padding_tablet=”inherit” column_padding_phone=”inherit” column_padding_position=”all” column_element_direction_desktop=”default” column_element_spacing=”default” desktop_text_alignment=”default” tablet_text_alignment=”default” phone_text_alignment=”default” background_color_opacity=”1″ background_hover_color_opacity=”1″ column_backdrop_filter=”none” column_shadow=”none” column_border_radius=”none” column_link_target=”_self” column_position=”default” gradient_direction=”left_to_right” overlay_strength=”0.3″ width=”1/2″ tablet_width_inherit=”default” animation_type=”default” bg_image_animation=”none” border_type=”simple” column_border_width=”none” column_border_style=”solid”][nectar_btn size=”large” button_style=”regular” button_color_2=”Accent-Color” icon_family=”none” text=”LEARN MORE” url=”https://valley.church/great-pumpkin-party/”][/vc_column][vc_column column_padding=”no-extra-padding” column_padding_tablet=”inherit” column_padding_phone=”inherit” column_padding_position=”all” column_element_direction_desktop=”default” column_element_spacing=”default” desktop_text_alignment=”default” tablet_text_alignment=”default” phone_text_alignment=”default” background_color_opacity=”1″ background_hover_color_opacity=”1″ column_backdrop_filter=”none” column_shadow=”none” column_border_radius=”none” column_link_target=”_self” column_position=”default” gradient_direction=”left_to_right” overlay_strength=”0.3″ width=”1/2″ tablet_width_inherit=”default” animation_type=”default” bg_image_animation=”none” border_type=”simple” column_border_width=”none” column_border_style=”solid”][nectar_btn size=”large” button_style=”regular” button_color_2=”Accent-Color” icon_family=”none” text=”VOLUNTEER” url=”https://form.everestwebdeals.co/?form=bc503735c20614df2d7cb3460a421a9c”][/vc_column][/vc_row]
URL:https://valley.church/event/the-great-pumpkin-party-a-night-for-families-with-special-needs/
LOCATION:Valley Church\, 4343 Fuller Rd\, We\, IA\, 50265\, United States
CATEGORIES:Children,Community Center,Special Needs,Students
ATTACH;FMTTYPE=image/png:https://valley.church/wp-content/uploads/2025/07/GPP-logo_Full-color-scaled.png
END:VEVENT
BEGIN:VEVENT
DTSTART;TZID=UTC:20250924T183000
DTEND;TZID=UTC:20250924T200000
DTSTAMP:20260423T060018
CREATED:20250814T212451Z
LAST-MODIFIED:20250815T014317Z
UID:10004032-1758738600-1758744000@valley.church
SUMMARY:Valley Kids Club Kick-Off
DESCRIPTION:[vc_row type=”in_container” full_screen_row_position=”middle” column_margin=”default” column_direction=”default” column_direction_tablet=”default” column_direction_phone=”default” scene_position=”center” text_color=”dark” text_align=”left” row_border_radius=”none” row_border_radius_applies=”bg” overflow=”visible” overlay_strength=”0.3″ gradient_direction=”left_to_right” shape_divider_position=”bottom” bg_image_animation=”none”][vc_column column_padding=”no-extra-padding” column_padding_tablet=”inherit” column_padding_phone=”inherit” column_padding_position=”all” column_element_direction_desktop=”default” column_element_spacing=”default” desktop_text_alignment=”default” tablet_text_alignment=”default” phone_text_alignment=”default” background_color_opacity=”1″ background_hover_color_opacity=”1″ column_backdrop_filter=”none” column_shadow=”none” column_border_radius=”none” column_link_target=”_self” column_position=”default” gradient_direction=”left_to_right” overlay_strength=”0.3″ width=”1/1″ tablet_width_inherit=”default” animation_type=”default” bg_image_animation=”none” border_type=”simple” column_border_width=”none” column_border_style=”solid”][vc_column_text css=”” text_direction=”default”]Valley Kids Club launches September 10th. Through age-specific teaching\, Bible memory\, and fun activities\, we ensure that our Wednesday night programs are gospel-centered. Sign up your Pre-School thru 5th grade kids to join us! Register here[/vc_column_text][/vc_column][/vc_row][vc_row type=”in_container” full_screen_row_position=”middle” column_margin=”default” column_direction=”default” column_direction_tablet=”default” column_direction_phone=”default” scene_position=”center” text_color=”dark” text_align=”left” row_border_radius=”none” row_border_radius_applies=”bg” overflow=”visible” overlay_strength=”0.3″ gradient_direction=”left_to_right” shape_divider_position=”bottom” bg_image_animation=”none”][vc_column column_padding=”no-extra-padding” column_padding_tablet=”inherit” column_padding_phone=”inherit” column_padding_position=”all” column_element_direction_desktop=”default” column_element_spacing=”default” desktop_text_alignment=”default” tablet_text_alignment=”default” phone_text_alignment=”default” background_color_opacity=”1″ background_hover_color_opacity=”1″ column_backdrop_filter=”none” column_shadow=”none” column_border_radius=”none” column_link_target=”_self” column_position=”default” gradient_direction=”left_to_right” overlay_strength=”0.3″ width=”1/3″ tablet_width_inherit=”default” animation_type=”default” bg_image_animation=”none” border_type=”simple” column_border_width=”none” column_border_style=”solid”][nectar_btn size=”large” button_style=”regular” button_color_2=”Accent-Color” icon_family=”none” url=”https://valleychurchdm.churchcenter.com/registrations/events/3049489″ text=”REGISTER”][/vc_column][/vc_row]
URL:https://valley.church/event/valley-kids-club-kick-off/2025-09-24/
LOCATION:Valley Church\, 4343 Fuller Rd\, We\, IA\, 50265\, United States
CATEGORIES:Children
ATTACH;FMTTYPE=image/png:https://valley.church/wp-content/uploads/2025/08/Slides-for-website-1.png
ORGANIZER;CN="Carter Norine":MAILTO:cartern@valley.church
END:VEVENT
BEGIN:VEVENT
DTSTART;TZID=UTC:20250827T183000
DTEND;TZID=UTC:20250827T200000
DTSTAMP:20260423T060018
CREATED:20250811T194658Z
LAST-MODIFIED:20250812T204221Z
UID:10004028-1756319400-1756324800@valley.church
SUMMARY:Volunteer Kickoff
DESCRIPTION:Volunteer Kickoff is for anyone volunteering in Children’s Ministry and Middle School Ministry on Wednesday nights\, or in High School Ministry on Sunday nights! Join us as we prepare for a great year of ministry and re-connect with other volunteers!
URL:https://valley.church/event/volunteer-kickoff/
LOCATION:Valley Church\, 4343 Fuller Rd\, We\, IA\, 50265\, United States
CATEGORIES:Children,High School,Middle School,Students
ATTACH;FMTTYPE=image/png:https://valley.church/wp-content/uploads/2025/08/Volunteer-Kickoff.png
END:VEVENT
BEGIN:VEVENT
DTSTART;TZID=UTC:20250817T110000
DTEND;TZID=UTC:20250817T120000
DTSTAMP:20260423T060018
CREATED:20250722T004556Z
LAST-MODIFIED:20250722T030711Z
UID:10003950-1755428400-1755432000@valley.church
SUMMARY:Children's and Student Ministries Volunteer Informational Meeting
DESCRIPTION:[vc_row type=”in_container” full_screen_row_position=”middle” column_margin=”default” column_direction=”default” column_direction_tablet=”default” column_direction_phone=”default” scene_position=”center” text_color=”dark” text_align=”left” row_border_radius=”none” row_border_radius_applies=”bg” overflow=”visible” overlay_strength=”0.3″ gradient_direction=”left_to_right” shape_divider_position=”bottom” bg_image_animation=”none”][vc_column column_padding=”no-extra-padding” column_padding_tablet=”inherit” column_padding_phone=”inherit” column_padding_position=”all” column_element_direction_desktop=”default” column_element_spacing=”default” desktop_text_alignment=”default” tablet_text_alignment=”default” phone_text_alignment=”default” background_color_opacity=”1″ background_hover_color_opacity=”1″ column_backdrop_filter=”none” column_shadow=”none” column_border_radius=”none” column_link_target=”_self” column_position=”default” gradient_direction=”left_to_right” overlay_strength=”0.3″ width=”1/1″ tablet_width_inherit=”default” animation_type=”default” bg_image_animation=”none” border_type=”simple” column_border_width=”none” column_border_style=”solid”][vc_column_text css=”” text_direction=”default”]If you want to know about volunteer opportunities for serving the children and students at Valley Church (birth thru high school)\, this is the meeting for you! This gathering is a time to hear about the variety of volunteer roles we have in these ministries as well as the impact our volunteers have on children and students. All are welcome to attend this informational\, no strings attached meeting. \n\nSunday\, August 17\n11 am\nRoom 209 on the Main Level of the church\n\n[/vc_column_text][/vc_column][/vc_row]
URL:https://valley.church/event/childrens-and-student-ministries-volunteer-informational-meeting/
LOCATION:Valley Church\, 4343 Fuller Rd\, We\, IA\, 50265\, United States
CATEGORIES:Adults,Children,High School,Middle School
ATTACH;FMTTYPE=image/jpeg:https://valley.church/wp-content/uploads/2025/07/VolunteerMeeting-KidsStuMin-1.jpg
END:VEVENT
BEGIN:VEVENT
DTSTART;VALUE=DATE:20250726
DTEND;VALUE=DATE:20250804
DTSTAMP:20260423T060018
CREATED:20250430T063104Z
LAST-MODIFIED:20250712T001748Z
UID:10001583-1753488000-1754265599@valley.church
SUMMARY:Love You Des Moines Days
DESCRIPTION:[vc_row type=”in_container” full_screen_row_position=”middle” column_margin=”default” column_direction=”default” column_direction_tablet=”default” column_direction_phone=”default” scene_position=”center” text_color=”dark” text_align=”left” row_border_radius=”none” row_border_radius_applies=”bg” overflow=”visible” overlay_strength=”0.3″ gradient_direction=”left_to_right” shape_divider_position=”bottom” bg_image_animation=”none”][vc_column column_padding=”no-extra-padding” column_padding_tablet=”inherit” column_padding_phone=”inherit” column_padding_position=”all” column_element_direction_desktop=”default” column_element_spacing=”default” desktop_text_alignment=”default” tablet_text_alignment=”default” phone_text_alignment=”default” background_color_opacity=”1″ background_hover_color_opacity=”1″ column_backdrop_filter=”none” column_shadow=”none” column_border_radius=”none” column_link_target=”_self” column_position=”default” gradient_direction=”left_to_right” overlay_strength=”0.3″ width=”1/1″ tablet_width_inherit=”default” animation_type=”default” bg_image_animation=”none” border_type=”simple” column_border_width=”none” column_border_style=”solid”][nectar_btn size=”medium” button_style=”regular” button_color_2=”Accent-Color” icon_family=”none” text=”LEARN MORE” url=”loveyoudsm.com”][vc_column_text]This year\, we’re kicking off Love You Des Moines Days with the 10th Annual Valley Classic Car Show on Saturday\, July 26! Love You Des Moines Days is a 9 day celebration for our community with hundreds of FREE activities\, classes\, workshops and events for everyone![/vc_column_text][/vc_column][/vc_row][vc_row type=”in_container” full_screen_row_position=”middle” column_margin=”default” column_direction=”default” column_direction_tablet=”default” column_direction_phone=”default” scene_position=”center” text_color=”dark” text_align=”left” row_border_radius=”none” row_border_radius_applies=”bg” overflow=”visible” overlay_strength=”0.3″ gradient_direction=”left_to_right” shape_divider_position=”bottom” bg_image_animation=”none”][vc_column column_padding=”no-extra-padding” column_padding_tablet=”inherit” column_padding_phone=”inherit” column_padding_position=”all” column_element_direction_desktop=”default” column_element_spacing=”default” desktop_text_alignment=”default” tablet_text_alignment=”default” phone_text_alignment=”default” background_color_opacity=”1″ background_hover_color_opacity=”1″ column_backdrop_filter=”none” column_shadow=”none” column_border_radius=”none” column_link_target=”_self” column_position=”default” gradient_direction=”left_to_right” overlay_strength=”0.3″ width=”1/2″ tablet_width_inherit=”default” animation_type=”default” bg_image_animation=”none” border_type=”simple” column_border_width=”none” column_border_style=”solid”][nectar_btn size=”medium” button_style=”regular” button_color_2=”Accent-Color” icon_family=”none” text=”HOST AN ACTIVITY” url=”https://docs.google.com/forms/d/e/1FAIpQLSeY5f5FKHMHSgu4AnrLa6T7INrYWZoE1XTNhkCnzjJnRPv5DQ/viewform?usp=header”][/vc_column][vc_column column_padding=”no-extra-padding” column_padding_tablet=”inherit” column_padding_phone=”inherit” column_padding_position=”all” column_element_direction_desktop=”default” column_element_spacing=”default” desktop_text_alignment=”default” tablet_text_alignment=”default” phone_text_alignment=”default” background_color_opacity=”1″ background_hover_color_opacity=”1″ column_backdrop_filter=”none” column_shadow=”none” column_border_radius=”none” column_link_target=”_self” column_position=”default” gradient_direction=”left_to_right” overlay_strength=”0.3″ width=”1/2″ tablet_width_inherit=”default” animation_type=”default” bg_image_animation=”none” border_type=”simple” column_border_width=”none” column_border_style=”solid”][nectar_btn size=”medium” button_style=”regular” button_color_2=”Accent-Color” icon_family=”none” text=”VOLUNTEER” url=”https://www.signupgenius.com/go/409084CAFAF0-57444439-2025#/”][/vc_column][/vc_row]
URL:https://valley.church/event/love-you-des-moines-days/
LOCATION:Valley Community Center\, 4444 Fuller Rd\, West Des Moines\, IA\, 50265\, United States
CATEGORIES:Adults,Children,Community Center
ATTACH;FMTTYPE=image/png:https://valley.church/wp-content/uploads/2025/04/Slides-for-Website-Events-3.png
END:VEVENT
BEGIN:VEVENT
DTSTART;TZID=UTC:20250528T183000
DTEND;TZID=UTC:20250528T200000
DTSTAMP:20260423T060018
CREATED:20250520T014243Z
LAST-MODIFIED:20250520T014347Z
UID:10003163-1748457000-1748462400@valley.church
SUMMARY:5th Grade Party
DESCRIPTION:Kids finishing 5th grade are invited to the 5th Grade Party on Wednesday\, May 28 in the Lower Level of Valley Church from 6:30-8:00 pm. No RSVP is required; kids can just show up! We will eat pizza\, play games\, and make some connections with friends. This is a chance for kids to celebrate their time in Children’s Ministry before they move up to Middle School Ministry! The party is for 5th graders only. Questions? Email joeb@valley.church.
URL:https://valley.church/event/5th-grade-party/
LOCATION:Valley Church\, 4343 Fuller Rd\, We\, IA\, 50265\, United States
CATEGORIES:Children,Middle School
ATTACH;FMTTYPE=image/jpeg:https://valley.church/wp-content/uploads/2025/05/5th-Grade.jpg
END:VEVENT
BEGIN:VEVENT
DTSTART;TZID=UTC:20250418T173000
DTEND;TZID=UTC:20250418T203000
DTSTAMP:20260423T060018
CREATED:20250408T025615Z
LAST-MODIFIED:20250408T065946Z
UID:10000900-1744997400-1745008200@valley.church
SUMMARY:Good Friday at Valley
DESCRIPTION:[vc_row type=”in_container” full_screen_row_position=”middle” column_margin=”default” column_direction=”default” column_direction_tablet=”default” column_direction_phone=”default” scene_position=”center” text_color=”dark” text_align=”left” row_border_radius=”none” row_border_radius_applies=”bg” overflow=”visible” overlay_strength=”0.3″ gradient_direction=”left_to_right” shape_divider_position=”bottom” bg_image_animation=”none”][vc_column column_padding=”no-extra-padding” column_padding_tablet=”inherit” column_padding_phone=”inherit” column_padding_position=”all” column_element_direction_desktop=”default” column_element_spacing=”default” desktop_text_alignment=”default” tablet_text_alignment=”default” phone_text_alignment=”default” background_color_opacity=”1″ background_hover_color_opacity=”1″ column_backdrop_filter=”none” column_shadow=”none” column_border_radius=”none” column_link_target=”_self” column_position=”default” gradient_direction=”left_to_right” overlay_strength=”0.3″ width=”1/1″ tablet_width_inherit=”default” animation_type=”default” bg_image_animation=”none” border_type=”simple” column_border_width=”none” column_border_style=”solid”][nectar_responsive_text text_direction=”default”]Join us for Good Friday at Valley Church as we reflect on the power and hope of the cross. All are welcome to experience a meaningful evening of worship and remembrance.[/nectar_responsive_text][nectar_btn size=”medium” open_new_tab=”true” button_style=”regular” button_color_2=”Extra-Color-2″ icon_family=”none” text=”Learn More” url=”/easter” margin_right=”10px”][/vc_column][/vc_row]
URL:https://valley.church/event/good-friday-at-valley/
LOCATION:Valley Church\, 4343 Fuller Rd\, We\, IA\, 50265\, United States
CATEGORIES:Adults,Children,Español,High School,Legacy Builders,Men,Middle School,Students
ATTACH;FMTTYPE=image/webp:https://valley.church/wp-content/uploads/2025/04/good-friday-event.webp
END:VEVENT
END:VCALENDAR