BEGIN:VCALENDAR
VERSION:2.0
PRODID:-//Valley Church - ECPv6.15.20//NONSGML v1.0//EN
CALSCALE:GREGORIAN
METHOD:PUBLISH
X-WR-CALNAME:Valley Church
X-ORIGINAL-URL:https://valley.church
X-WR-CALDESC:Events for Valley Church
REFRESH-INTERVAL;VALUE=DURATION:PT1H
X-Robots-Tag:noindex
X-PUBLISHED-TTL:PT1H
BEGIN:VTIMEZONE
TZID:UTC
BEGIN:STANDARD
TZOFFSETFROM:+0000
TZOFFSETTO:+0000
TZNAME:UTC
DTSTART:20250101T000000
END:STANDARD
END:VTIMEZONE
BEGIN:VTIMEZONE
TZID:America/New_York
BEGIN:DAYLIGHT
TZOFFSETFROM:-0500
TZOFFSETTO:-0400
TZNAME:EDT
DTSTART:20250309T070000
END:DAYLIGHT
BEGIN:STANDARD
TZOFFSETFROM:-0400
TZOFFSETTO:-0500
TZNAME:EST
DTSTART:20251102T060000
END:STANDARD
BEGIN:DAYLIGHT
TZOFFSETFROM:-0500
TZOFFSETTO:-0400
TZNAME:EDT
DTSTART:20260308T070000
END:DAYLIGHT
BEGIN:STANDARD
TZOFFSETFROM:-0400
TZOFFSETTO:-0500
TZNAME:EST
DTSTART:20261101T060000
END:STANDARD
BEGIN:DAYLIGHT
TZOFFSETFROM:-0500
TZOFFSETTO:-0400
TZNAME:EDT
DTSTART:20270314T070000
END:DAYLIGHT
BEGIN:STANDARD
TZOFFSETFROM:-0400
TZOFFSETTO:-0500
TZNAME:EST
DTSTART:20271107T060000
END:STANDARD
END:VTIMEZONE
BEGIN:VEVENT
DTSTART;TZID=UTC:20260419T080000
DTEND;TZID=UTC:20260419T123000
DTSTAMP:20260419T111730
CREATED:20260304T192717Z
LAST-MODIFIED:20260414T220240Z
UID:10004388-1776585600-1776601800@valley.church
SUMMARY:Explore Baptism
DESCRIPTION:Whether you’ve been a Christian for a couple of weeks or a couple of decades\, baptism is a unique opportunity to publicly proclaim your faith.\n\n\n\nIf you are interested in being baptized at Valley\, join our Explore Baptism class on Sunday\, April 12 or Sunday\, April 19 directly after each worship service to learn more.\n\n\n\nWe are looking forward to seeing you there.
URL:https://valley.church/event/explore-baptism-6-2/
LOCATION:Valley Church\, 4343 Fuller Rd\, We\, IA\, 50265\, United States
CATEGORIES:Adults,Featured Event,Legacy Builders,Life Groups,Men,Women
ATTACH;FMTTYPE=image/png:https://valley.church/wp-content/uploads/2026/03/valley-baptism-refresh_v2.5-elements_1920x1080-explorebaptism.png
ORGANIZER;CN="Dolan Pederson":MAILTO:dolanp@valley.church
END:VEVENT
BEGIN:VEVENT
DTSTART;TZID=America/New_York:20260420T180000
DTEND;TZID=America/New_York:20260420T193000
DTSTAMP:20260419T111730
CREATED:20260313T203840Z
LAST-MODIFIED:20260401T012522Z
UID:10004394-1776708000-1776713400@valley.church
SUMMARY:Alpha - Spring 2026
DESCRIPTION:[vc_row type=”in_container” full_screen_row_position=”middle” column_margin=”default” column_direction=”default” column_direction_tablet=”default” column_direction_phone=”default” scene_position=”center” text_color=”dark” text_align=”left” row_border_radius=”none” row_border_radius_applies=”bg” overflow=”visible” overlay_strength=”0.3″ gradient_direction=”left_to_right” shape_divider_position=”bottom” bg_image_animation=”none”][vc_column column_padding=”no-extra-padding” column_padding_tablet=”inherit” column_padding_phone=”inherit” column_padding_position=”all” column_element_direction_desktop=”default” column_element_spacing=”default” desktop_text_alignment=”default” tablet_text_alignment=”default” phone_text_alignment=”default” background_color_opacity=”1″ background_hover_color_opacity=”1″ column_backdrop_filter=”none” column_shadow=”none” column_border_radius=”none” column_link_target=”_self” column_position=”default” gradient_direction=”left_to_right” overlay_strength=”0.3″ width=”1/1″ tablet_width_inherit=”default” animation_type=”default” bg_image_animation=”none” border_type=”simple” column_border_width=”none” column_border_style=”solid”][vc_column_text css=”” text_direction=”default”]Alpha is a welcoming community where you can connect with others who are open to exploring faith and the meaning of life. Each session features a free meal\, an engaging talk on an aspect of the Christian faith\, and an opportunity for everyone to share their questions and perspectives. We value your voice and would love to hear your insights! \nAlpha meets on Monday evenings from 6-7:30 PM.  Sessions are available in both English and Spanish. Child care will be available.[/vc_column_text][/vc_column][/vc_row][vc_row type=”in_container” full_screen_row_position=”middle” column_margin=”default” column_direction=”default” column_direction_tablet=”default” column_direction_phone=”default” scene_position=”center” text_color=”dark” text_align=”left” row_border_radius=”none” row_border_radius_applies=”bg” overflow=”visible” overlay_strength=”0.3″ gradient_direction=”left_to_right” shape_divider_position=”bottom” bg_image_animation=”none”][vc_column column_padding=”no-extra-padding” column_padding_tablet=”inherit” column_padding_phone=”inherit” column_padding_position=”all” column_element_direction_desktop=”default” column_element_spacing=”default” desktop_text_alignment=”default” tablet_text_alignment=”default” phone_text_alignment=”default” background_color_opacity=”1″ background_hover_color_opacity=”1″ column_backdrop_filter=”none” column_shadow=”none” column_border_radius=”none” column_link_target=”_self” column_position=”default” gradient_direction=”left_to_right” overlay_strength=”0.3″ width=”1/1″ tablet_width_inherit=”default” animation_type=”default” bg_image_animation=”none” border_type=”simple” column_border_width=”none” column_border_style=”solid”][nectar_btn size=”medium” button_style=”regular” button_color_2=”Accent-Color” icon_family=”none” text=”REGISTER” url=”https://valleychurchdm.churchcenter.com/registrations/events/3340064″][/vc_column][/vc_row]
URL:https://valley.church/event/alpha-spring-2026-2/2026-04-20/
LOCATION:Valley Church\, 4343 Fuller Rd\, We\, IA\, 50265\, United States
CATEGORIES:Alpha,Featured Event
ATTACH;FMTTYPE=image/png:https://valley.church/wp-content/uploads/2025/12/Alpha-Slide-1.png
END:VEVENT
BEGIN:VEVENT
DTSTART;TZID=America/New_York:20260426T180000
DTEND;TZID=America/New_York:20260426T193000
DTSTAMP:20260419T111730
CREATED:20260410T012322Z
LAST-MODIFIED:20260414T215755Z
UID:10004414-1777226400-1777231800@valley.church
SUMMARY:LOVE THE NEARBY: 5 Surefire Ways to Transform Your Neighborhood
DESCRIPTION:Join us for an evening in the Sky Venue at the Valley Community Center with Kevin Palau. \nKevin Palau\, President and CEO of the Luis Palau Association\, has spent decades equipping believers to take initiative and love their neighbors through practical\, gospel-centered action. His leadership shows that real impact happens when ordinary Christians personally step out to serve\, care\, and reflect Christ in everyday life. \nLeave this event feeling ready to become a beacon of Christ’s love in your neighborhood.
URL:https://valley.church/event/love-the-nearby-5-surefire-ways-to-transform-your-neighborhood/
LOCATION:Sky Venue\, 4444 Fuller Road\, West Des Moines\, IA\, 50265\, United States
CATEGORIES:Featured Event
ATTACH;FMTTYPE=image/png:https://valley.church/wp-content/uploads/2026/04/01-Love-the-Nearby-Main.png
END:VEVENT
END:VCALENDAR