BEGIN:VCALENDAR
VERSION:2.0
PRODID:-//Valley Church - ECPv6.15.20//NONSGML v1.0//EN
CALSCALE:GREGORIAN
METHOD:PUBLISH
X-ORIGINAL-URL:https://valley.church
X-WR-CALDESC:Events for Valley Church
REFRESH-INTERVAL;VALUE=DURATION:PT1H
X-Robots-Tag:noindex
X-PUBLISHED-TTL:PT1H
BEGIN:VTIMEZONE
TZID:America/New_York
BEGIN:DAYLIGHT
TZOFFSETFROM:-0500
TZOFFSETTO:-0400
TZNAME:EDT
DTSTART:20250309T070000
END:DAYLIGHT
BEGIN:STANDARD
TZOFFSETFROM:-0400
TZOFFSETTO:-0500
TZNAME:EST
DTSTART:20251102T060000
END:STANDARD
BEGIN:DAYLIGHT
TZOFFSETFROM:-0500
TZOFFSETTO:-0400
TZNAME:EDT
DTSTART:20260308T070000
END:DAYLIGHT
BEGIN:STANDARD
TZOFFSETFROM:-0400
TZOFFSETTO:-0500
TZNAME:EST
DTSTART:20261101T060000
END:STANDARD
BEGIN:DAYLIGHT
TZOFFSETFROM:-0500
TZOFFSETTO:-0400
TZNAME:EDT
DTSTART:20270314T070000
END:DAYLIGHT
BEGIN:STANDARD
TZOFFSETFROM:-0400
TZOFFSETTO:-0500
TZNAME:EST
DTSTART:20271107T060000
END:STANDARD
END:VTIMEZONE
BEGIN:VTIMEZONE
TZID:UTC
BEGIN:STANDARD
TZOFFSETFROM:+0000
TZOFFSETTO:+0000
TZNAME:UTC
DTSTART:20250101T000000
END:STANDARD
END:VTIMEZONE
BEGIN:VEVENT
DTSTART;TZID=America/New_York:20260213T190000
DTEND;TZID=America/New_York:20260213T210000
DTSTAMP:20260419T114102
CREATED:20251120T161159Z
LAST-MODIFIED:20251120T161159Z
UID:10004141-1771009200-1771016400@valley.church
SUMMARY:Middle School Night to Shine Service Opportunity
DESCRIPTION:[vc_row type=”in_container” full_screen_row_position=”middle” column_margin=”default” column_direction=”default” column_direction_tablet=”default” column_direction_phone=”default” scene_position=”center” text_color=”dark” text_align=”left” row_border_radius=”none” row_border_radius_applies=”bg” overflow=”visible” overlay_strength=”0.3″ gradient_direction=”left_to_right” shape_divider_position=”bottom” bg_image_animation=”none”][vc_column column_padding=”no-extra-padding” column_padding_tablet=”inherit” column_padding_phone=”inherit” column_padding_position=”all” column_element_direction_desktop=”default” column_element_spacing=”default” desktop_text_alignment=”default” tablet_text_alignment=”default” phone_text_alignment=”default” background_color_opacity=”1″ background_hover_color_opacity=”1″ column_backdrop_filter=”none” column_shadow=”none” column_border_radius=”none” column_link_target=”_self” column_position=”default” gradient_direction=”left_to_right” overlay_strength=”0.3″ width=”1/1″ tablet_width_inherit=”default” animation_type=”default” bg_image_animation=”none” border_type=”simple” column_border_width=”none” column_border_style=”solid”][vc_column_text css=”” text_direction=”default”]\n\nDrop off at Valley Community Center @ 7:00 pm\nPick up at Valley Church @ 9:00 pm\n\nNight To Shine is an unforgettable prom night experience for guests who have special needs or disabilities. This is a great opportunity to show God’s love through service! Middle School students will be able to be dance buddies\, meaning they will fill out the dance floor and have fun with the Night To Shine guests.[/vc_column_text][/vc_column][/vc_row][vc_row type=”in_container” full_screen_row_position=”middle” column_margin=”default” column_direction=”default” column_direction_tablet=”default” column_direction_phone=”default” scene_position=”center” text_color=”dark” text_align=”left” row_border_radius=”none” row_border_radius_applies=”bg” overflow=”visible” overlay_strength=”0.3″ gradient_direction=”left_to_right” shape_divider_position=”bottom” bg_image_animation=”none”][vc_column column_padding=”no-extra-padding” column_padding_tablet=”inherit” column_padding_phone=”inherit” column_padding_position=”all” column_element_direction_desktop=”default” column_element_spacing=”default” desktop_text_alignment=”default” tablet_text_alignment=”default” phone_text_alignment=”default” background_color_opacity=”1″ background_hover_color_opacity=”1″ column_backdrop_filter=”none” column_shadow=”none” column_border_radius=”none” column_link_target=”_self” column_position=”default” gradient_direction=”left_to_right” overlay_strength=”0.3″ width=”1/1″ tablet_width_inherit=”default” animation_type=”default” bg_image_animation=”none” border_type=”simple” column_border_width=”none” column_border_style=”solid”][nectar_btn size=”small” button_style=”regular” button_color_2=”Accent-Color” icon_family=”none” text=”Sign up to be a Dance Buddy” url=”https://www.signupgenius.com/go/409084CAFAF0-53627157-night#/”][/vc_column][/vc_row]
URL:https://valley.church/event/middle-school-night-to-shine-service-opportunity/
LOCATION:IA
CATEGORIES:Middle School,Students
ATTACH;FMTTYPE=image/jpeg:https://valley.church/wp-content/uploads/2019/11/Night-to-Shine-rectangle.jpg
END:VEVENT
BEGIN:VEVENT
DTSTART;TZID=America/New_York:20260218T183000
DTEND;TZID=America/New_York:20260218T200000
DTSTAMP:20260419T114102
CREATED:20251203T152433Z
LAST-MODIFIED:20251203T152433Z
UID:10004159-1771439400-1771444800@valley.church
SUMMARY:Middle School Formal Night
DESCRIPTION:Valley Community Center\nNo RSVP required; just show up!\n\nEveryone is encouraged but not required to dress up in formal clothes. Why? Because it’s fun to dress up every once in a while!
URL:https://valley.church/event/middle-school-formal-night/
LOCATION:IA
CATEGORIES:Middle School,Students
ATTACH;FMTTYPE=image/jpeg:https://valley.church/wp-content/uploads/2025/12/Feb.-18-Formal-Night.jpg
END:VEVENT
BEGIN:VEVENT
DTSTART;TZID=UTC:20260222T081500
DTEND;TZID=UTC:20260222T121500
DTSTAMP:20260419T114102
CREATED:20251209T170918Z
LAST-MODIFIED:20251209T170918Z
UID:10004181-1771748100-1771762500@valley.church
SUMMARY:Middle School - Baptism Sunday
DESCRIPTION:Sunday\, February 22\n8:15\, 9:30 and 11:00 am \nBaptism is an important moment in the lives of Christ-followers! Students will have the opportunity to get baptized at any of the Sunday morning worship services. To get baptized\, middle schoolers must complete the following three steps: \n\nAttend a 15-minute Explore Baptism Gathering. Parents are encouraged to join their student but not required. Students only need to attend one session. No RSVP is required; just show up! Gathering times:\n\n\n\n\nWednesday\, January 14 from 8:00-8:15pm @ Valley Community Center Hideaway\nSunday\, January 18 from 10:45-11:00am @ Valley Community Center Hideaway\nWednesday\, January 21 from 8:00-8:15pm @ Valley Community Center Hideaway\nSunday\, January 25 from 10:45-11:00am @ Valley Community Center Hideaway\n\n\n\n2. Fill out the online baptism form. After you submit the form\, someone from our team will contact you with next steps! \n3. Record a baptism testimony video to be played during your baptism service. Registration for video recording coming soon.
URL:https://valley.church/event/middle-school-baptism-sunday-3/
LOCATION:Valley Church\, 4343 Fuller Rd\, We\, IA\, 50265\, United States
CATEGORIES:Middle School,Students
ATTACH;FMTTYPE=image/png:https://valley.church/wp-content/uploads/2025/04/Baptism-Sunday-1920x1080-1-1.png
END:VEVENT
END:VCALENDAR