BEGIN:VCALENDAR
VERSION:2.0
PRODID:-//Valley Church - ECPv6.15.20//NONSGML v1.0//EN
CALSCALE:GREGORIAN
METHOD:PUBLISH
X-ORIGINAL-URL:https://valley.church
X-WR-CALDESC:Events for Valley Church
REFRESH-INTERVAL;VALUE=DURATION:PT1H
X-Robots-Tag:noindex
X-PUBLISHED-TTL:PT1H
BEGIN:VTIMEZONE
TZID:UTC
BEGIN:STANDARD
TZOFFSETFROM:+0000
TZOFFSETTO:+0000
TZNAME:UTC
DTSTART:20240101T000000
END:STANDARD
END:VTIMEZONE
BEGIN:VEVENT
DTSTART;TZID=UTC:20250525T080000
DTEND;TZID=UTC:20250525T120000
DTSTAMP:20260421T105406
CREATED:20250430T035716Z
LAST-MODIFIED:20250513T191730Z
UID:10001205-1748160000-1748174400@valley.church
SUMMARY:NEXT Course
DESCRIPTION:NEXT is an interactive course to learn about our vision and values and help you find your purpose and place at Valley Church. It will be held Sunday\, May 25\, from 8 am – 12 pm at the Valley Community Center (4444 Fuller Rd. WDM IA 50265). Please register each adult attending and children that will use childcare & children’s ministry programming. Free breakfast and coffee will be provided as you attend the Maplenol Worship Gathering. \nREGISTER NOW
URL:https://valley.church/event/next-course/
LOCATION:Valley Community Center\, 4444 Fuller Rd\, West Des Moines\, IA\, 50265\, United States
CATEGORIES:Adults,Legacy Builders,Men,Women
ATTACH;FMTTYPE=image/png:https://valley.church/wp-content/uploads/2025/04/NEXT-Course-Slide-1.png
ORGANIZER;CN="Dolan Pederson":MAILTO:dolanp@valley.church
END:VEVENT
BEGIN:VEVENT
DTSTART;TZID=UTC:20250520T110000
DTEND;TZID=UTC:20250520T130000
DTSTAMP:20260421T105406
CREATED:20250514T195211Z
LAST-MODIFIED:20250514T195211Z
UID:10002527-1747738800-1747746000@valley.church
SUMMARY:Faithworks Network Luncheon
DESCRIPTION:As Christians in the workplace\, God gives us amazing opportunities for purpose\, impact\, joy\, and accomplishment. However\, we can also often experience tension\, discontent\, and conflict with how to effectively and biblically integrate our faith with our work. FaithWorks Network is a place where believers and seekers can come together to look into God’s Word as the ultimate source of truth and authority\, learn from each other with practical application to the workplace\, and encourage one another in our mutual pursuit of true success in both this life and the next. \nJoin us on Tuesday\, May 20th\, from 11 AM to 1 PM for our fourth and final session of the spring: Working Out Your Faith\, featuring guest speaker Elder Frank Accurso. \nIn this session\, Frank will explore how to effectively live out and share your faith in the secular workplace. We’ll also hear a personal FaithWorks testimony from Elder Brian Prewitt and dive into how live as an example of Christ in our businesses and careers. \nCost: $15 per person. \nDon’t miss this opportunity for inspiration\, fellowship\, and practical wisdom on aligning your time with God’s purpose! \nREGISTER NOW
URL:https://valley.church/event/faithworks-network-luncheon-2/
LOCATION:Valley Community Center\, 4444 Fuller Rd\, West Des Moines\, IA\, 50265\, United States
CATEGORIES:Adults,Men,Women
ATTACH;FMTTYPE=image/png:https://valley.church/wp-content/uploads/2025/05/FaithWorks-Network-169.png
ORGANIZER;CN="Dolan Pederson":MAILTO:dolanp@valley.church
END:VEVENT
BEGIN:VEVENT
DTSTART;TZID=UTC:20250514T113000
DTEND;TZID=UTC:20250514T130000
DTSTAMP:20260421T105406
CREATED:20250430T061940Z
LAST-MODIFIED:20250529T232738Z
UID:10001208-1747222200-1747227600@valley.church
SUMMARY:Legacy Builders Lunch & Learn
DESCRIPTION:Join us for this monthly gathering for seniors of great fellowship and entertainment! We enjoy a meal together and intentionally connect with others. Cost is $12\, payable by cash or check at the door. \nREGISTER NOW
URL:https://valley.church/event/legacy-builders-lunch-learn/
LOCATION:Valley Church Chapel\, 4343 Fuller Rd\, West Des Moines\, IA\, 50265\, United States
CATEGORIES:Adults,Legacy Builders,Men,Women
ATTACH;FMTTYPE=image/png:https://valley.church/wp-content/uploads/2025/04/Saints-Alive-169-1.png
END:VEVENT
BEGIN:VEVENT
DTSTART;TZID=UTC:20250426T100000
DTEND;TZID=UTC:20250426T120000
DTSTAMP:20260421T105406
CREATED:20250408T190007Z
LAST-MODIFIED:20250416T031145Z
UID:10000910-1745661600-1745668800@valley.church
SUMMARY:All Daughters Brunch
DESCRIPTION:[vc_row type=”in_container” full_screen_row_position=”middle” column_margin=”default” column_direction=”default” column_direction_tablet=”default” column_direction_phone=”default” scene_position=”center” text_color=”dark” text_align=”left” row_border_radius=”none” row_border_radius_applies=”bg” overflow=”visible” overlay_strength=”0.3″ gradient_direction=”left_to_right” shape_divider_position=”bottom” bg_image_animation=”none”][vc_column column_padding=”no-extra-padding” column_padding_tablet=”inherit” column_padding_phone=”inherit” column_padding_position=”all” column_element_direction_desktop=”default” column_element_spacing=”default” desktop_text_alignment=”default” tablet_text_alignment=”default” phone_text_alignment=”default” background_color_opacity=”1″ background_hover_color_opacity=”1″ column_backdrop_filter=”none” column_shadow=”none” column_border_radius=”none” column_link_target=”_self” column_position=”default” gradient_direction=”left_to_right” overlay_strength=”0.3″ width=”1/1″ tablet_width_inherit=”default” animation_type=”default” bg_image_animation=”none” border_type=”simple” column_border_width=”none” column_border_style=”solid”][nectar_responsive_text text_direction=”default”]REGISTRATION IS CURRENTLY FULL. PLEASE EMAIL MICHELLES@VALLEY.CHURCH TO BE ADDED TO THE WAITLIST. \nAll Daughters is a special gathering for girls and women of all ages. It will be a casual and fun morning where we will enjoy brunch\, an engaging activity and meaningful connections as we explore our spiritual family trees and celebrate all the generations. \nRegistration is required and will close Apr 21 or when we have reached capacity for the event. \nCost: $5[/nectar_responsive_text][nectar_btn size=”medium” open_new_tab=”true” button_style=”regular” button_color_2=”Extra-Color-2″ icon_family=”none” text=”REGISTRATION IS FULL” margin_right=”10px”][/vc_column][/vc_row]
URL:https://valley.church/event/all-daughters-brunch/
LOCATION:Valley Church Chapel\, 4343 Fuller Rd\, West Des Moines\, IA\, 50265\, United States
CATEGORIES:Women
ATTACH;FMTTYPE=image/webp:https://valley.church/wp-content/uploads/2025/04/all-daughters-brunch.webp
END:VEVENT
BEGIN:VEVENT
DTSTART;TZID=UTC:20250422T110000
DTEND;TZID=UTC:20250422T130000
DTSTAMP:20260421T105406
CREATED:20250408T071141Z
LAST-MODIFIED:20250416T174226Z
UID:10000908-1745319600-1745326800@valley.church
SUMMARY:FaithWorks Network Luncheon
DESCRIPTION:[vc_row type=”in_container” full_screen_row_position=”middle” column_margin=”default” column_direction=”default” column_direction_tablet=”default” column_direction_phone=”default” scene_position=”center” text_color=”dark” text_align=”left” row_border_radius=”none” row_border_radius_applies=”bg” overflow=”visible” overlay_strength=”0.3″ gradient_direction=”left_to_right” shape_divider_position=”bottom” bg_image_animation=”none”][vc_column column_padding=”no-extra-padding” column_padding_tablet=”inherit” column_padding_phone=”inherit” column_padding_position=”all” column_element_direction_desktop=”default” column_element_spacing=”default” desktop_text_alignment=”default” tablet_text_alignment=”default” phone_text_alignment=”default” background_color_opacity=”1″ background_hover_color_opacity=”1″ column_backdrop_filter=”none” column_shadow=”none” column_border_radius=”none” column_link_target=”_self” column_position=”default” gradient_direction=”left_to_right” overlay_strength=”0.3″ width=”1/1″ tablet_width_inherit=”default” animation_type=”default” bg_image_animation=”none” border_type=”simple” column_border_width=”none” column_border_style=”solid”][nectar_responsive_text text_direction=”default”]As Christians in the workplace\, God gives us amazing opportunities for purpose\, impact\, joy\, and accomplishment. However\, we can also often experience tension\, discontent\, and conflict with how to effectively and biblically integrate our faith with our work. FaithWorks Network is a place where believers and seekers can come together to look into God’s Word as the ultimate source of truth and authority\, learn from each other with practical application to the workplace\, and encourage one another in our mutual pursuit of true success in both this life and the next. \nJoin us on Tuesday\, April 22nd\, from 11 AM to 1 PM for our third session: Stewarding Our Time\, featuring guest speaker Angela Doyal. \nIn this session\, we’ll explore biblical principles for managing our time effectively to maximize impact. We’ll also hear a personal FaithWorks testimony from Tamara Sanner and dive into how God defines and measures success in our businesses and careers through His Word. \nCost: $15 per person. \nDon’t miss this opportunity for inspiration\, fellowship\, and practical wisdom on aligning your time with God’s purpose! \nSIGN UP NOW\n[/nectar_responsive_text][/vc_column][/vc_row]
URL:https://valley.church/event/faithworks-network-luncheon/
LOCATION:Valley Church Chapel\, 4343 Fuller Rd\, West Des Moines\, IA\, 50265\, United States
CATEGORIES:Adults,Men,Women
ATTACH;FMTTYPE=image/webp:https://valley.church/wp-content/uploads/2025/04/faithworks-event.webp
END:VEVENT
END:VCALENDAR