BEGIN:VCALENDAR
VERSION:2.0
PRODID:-//Valley Church - ECPv6.15.20//NONSGML v1.0//EN
CALSCALE:GREGORIAN
METHOD:PUBLISH
X-ORIGINAL-URL:https://valley.church
X-WR-CALDESC:Events for Valley Church
REFRESH-INTERVAL;VALUE=DURATION:PT1H
X-Robots-Tag:noindex
X-PUBLISHED-TTL:PT1H
BEGIN:VTIMEZONE
TZID:America/New_York
BEGIN:DAYLIGHT
TZOFFSETFROM:-0500
TZOFFSETTO:-0400
TZNAME:EDT
DTSTART:20250309T070000
END:DAYLIGHT
BEGIN:STANDARD
TZOFFSETFROM:-0400
TZOFFSETTO:-0500
TZNAME:EST
DTSTART:20251102T060000
END:STANDARD
BEGIN:DAYLIGHT
TZOFFSETFROM:-0500
TZOFFSETTO:-0400
TZNAME:EDT
DTSTART:20260308T070000
END:DAYLIGHT
BEGIN:STANDARD
TZOFFSETFROM:-0400
TZOFFSETTO:-0500
TZNAME:EST
DTSTART:20261101T060000
END:STANDARD
BEGIN:DAYLIGHT
TZOFFSETFROM:-0500
TZOFFSETTO:-0400
TZNAME:EDT
DTSTART:20270314T070000
END:DAYLIGHT
BEGIN:STANDARD
TZOFFSETFROM:-0400
TZOFFSETTO:-0500
TZNAME:EST
DTSTART:20271107T060000
END:STANDARD
END:VTIMEZONE
BEGIN:VEVENT
DTSTART;TZID=America/New_York:20260713T123000
DTEND;TZID=America/New_York:20260717T235900
DTSTAMP:20260420T074430
CREATED:20251117T203421Z
LAST-MODIFIED:20251117T203531Z
UID:10004139-1783945800-1784332740@valley.church
SUMMARY:HSM Challenge Conference 2026
DESCRIPTION:Challenge is a national gathering of students designed to help teens grow in their personal relationship with Jesus. The conference is committed to helping plant and water the gospel among the next generation. The goal is for students to experience the joy of knowing Jesus and helping others do the same. This year Challenge will be held at the Kansas City Convention Center in Kansas City\, Missouri. \nChallenge blends aspects of a conference\, a mission trip and camp to create a catalytic environment that moves beyond the mountaintop moment to building missional momentum within our teens. \n[nectar_btn size=”medium” open_new_tab=”true” button_style=”regular” button_color_2=”Accent-Color” icon_family=”none” text=”Register Here” url=”https://valleychurchdm.churchcenter.com/registrations/events/3275944″]
URL:https://valley.church/event/hsm-challenge-conference-2026/
LOCATION:Kansas City Convention Center\, 301 W 13th St\, Kansas City\, MO\, 64105\, United States
CATEGORIES:High School,Students
ATTACH;FMTTYPE=image/png:https://valley.church/wp-content/uploads/2025/11/Small-Version.png
ORGANIZER;CN="Isaac Rinne":MAILTO:isaacr@valley.church
END:VEVENT
BEGIN:VEVENT
DTSTART;TZID=America/New_York:20261010T090000
DTEND;TZID=America/New_York:20261010T163000
DTSTAMP:20260420T074430
CREATED:20260408T135308Z
LAST-MODIFIED:20260413T163401Z
UID:10004412-1791622800-1791649800@valley.church
SUMMARY:2026 Legacy Grandparenting Summit
DESCRIPTION:[vc_row type=”in_container” full_screen_row_position=”middle” column_margin=”default” column_direction=”default” column_direction_tablet=”default” column_direction_phone=”default” scene_position=”center” text_color=”dark” text_align=”left” row_border_radius=”none” row_border_radius_applies=”bg” overflow=”visible” overlay_strength=”0.3″ gradient_direction=”left_to_right” shape_divider_position=”bottom” bg_image_animation=”none”][vc_column column_padding=”no-extra-padding” column_padding_tablet=”inherit” column_padding_phone=”inherit” column_padding_position=”all” column_element_direction_desktop=”default” column_element_spacing=”default” desktop_text_alignment=”default” tablet_text_alignment=”default” phone_text_alignment=”default” background_color_opacity=”1″ background_hover_color_opacity=”1″ column_backdrop_filter=”none” column_shadow=”none” column_border_radius=”none” column_link_target=”_self” column_position=”default” gradient_direction=”left_to_right” overlay_strength=”0.3″ width=”1/1″ tablet_width_inherit=”default” animation_type=”default” bg_image_animation=”none” border_type=”simple” column_border_width=”none” column_border_style=”solid”][vc_column_text css=”” text_direction=”default”]\n\nLocation: Valley Church\nRegistration: $38 (Super Early Bird rate until 5/31)\nLunch: $15\n\nPlease click the Register for Legacy Coalition button to register with Legacy Coalition. After you register for a ticket\, you’ll be directed to a Valley Church registration to order and pay for a lunch if you’d like one. \nPlease pre-purchase your lunch for the 2026 Legacy Grandparenting Virtual Summit\, which includes assorted deli sandwiches\, fruit\, chips\, cookie\, and a drink. Lunches are ordered a head of time and will not be available for purchase on the day of the event.[/vc_column_text][/vc_column][/vc_row][vc_row type=”in_container” full_screen_row_position=”middle” column_margin=”default” column_direction=”default” column_direction_tablet=”default” column_direction_phone=”default” scene_position=”center” text_color=”dark” text_align=”left” row_border_radius=”none” row_border_radius_applies=”bg” overflow=”visible” overlay_strength=”0.3″ gradient_direction=”left_to_right” shape_divider_position=”bottom” bg_image_animation=”none”][vc_column column_padding=”no-extra-padding” column_padding_tablet=”inherit” column_padding_phone=”inherit” column_padding_position=”all” column_element_direction_desktop=”default” column_element_spacing=”default” desktop_text_alignment=”default” tablet_text_alignment=”default” phone_text_alignment=”default” background_color_opacity=”1″ background_hover_color_opacity=”1″ column_backdrop_filter=”none” column_shadow=”none” column_border_radius=”none” column_link_target=”_self” column_position=”default” gradient_direction=”left_to_right” overlay_strength=”0.3″ width=”1/1″ tablet_width_inherit=”default” animation_type=”default” bg_image_animation=”none” border_type=”simple” column_border_width=”none” column_border_style=”solid”][nectar_btn size=”small” button_style=”regular” button_color_2=”Accent-Color” icon_family=”none” text=”Register for Legacy Coalition” url=”https://brushfire.com/legacycoalition/simulcast/617305″][/vc_column][/vc_row]
URL:https://valley.church/event/2026-legacy-grandparenting-summit/
LOCATION:IA
CATEGORIES:Adults,Grandparenting,Legacy Builders
ATTACH;FMTTYPE=image/jpeg:https://valley.church/wp-content/uploads/2026/04/grandparent-summit.jpeg
END:VEVENT
END:VCALENDAR