BEGIN:VCALENDAR
VERSION:2.0
PRODID:-//Valley Church - ECPv6.15.20//NONSGML v1.0//EN
CALSCALE:GREGORIAN
METHOD:PUBLISH
X-WR-CALNAME:Valley Church
X-ORIGINAL-URL:https://valley.church
X-WR-CALDESC:Events for Valley Church
REFRESH-INTERVAL;VALUE=DURATION:PT1H
X-Robots-Tag:noindex
X-PUBLISHED-TTL:PT1H
BEGIN:VTIMEZONE
TZID:UTC
BEGIN:STANDARD
TZOFFSETFROM:+0000
TZOFFSETTO:+0000
TZNAME:UTC
DTSTART:20240101T000000
END:STANDARD
END:VTIMEZONE
BEGIN:VEVENT
DTSTART;TZID=UTC:20250507T180000
DTEND;TZID=UTC:20250507T210000
DTSTAMP:20260424T053145
CREATED:20250408T194857Z
LAST-MODIFIED:20250501T230034Z
UID:10001182-1746640800-1746651600@valley.church
SUMMARY:Middle School - Volunteer Dinner
DESCRIPTION:[vc_row type=”in_container” full_screen_row_position=”middle” column_margin=”default” column_direction=”default” column_direction_tablet=”default” column_direction_phone=”default” scene_position=”center” text_color=”dark” text_align=”left” row_border_radius=”none” row_border_radius_applies=”bg” overflow=”visible” overlay_strength=”0.3″ gradient_direction=”left_to_right” shape_divider_position=”bottom” bg_image_animation=”none”][vc_column column_padding=”no-extra-padding” column_padding_tablet=”inherit” column_padding_phone=”inherit” column_padding_position=”all” column_element_direction_desktop=”default” column_element_spacing=”default” desktop_text_alignment=”default” tablet_text_alignment=”default” phone_text_alignment=”default” background_color_opacity=”1″ background_hover_color_opacity=”1″ column_backdrop_filter=”none” column_shadow=”none” column_border_radius=”none” column_link_target=”_self” column_position=”default” gradient_direction=”left_to_right” overlay_strength=”0.3″ width=”1/1″ tablet_width_inherit=”default” animation_type=”default” bg_image_animation=”none” border_type=”simple” column_border_width=”none” column_border_style=”solid”][nectar_responsive_text text_direction=”default”]There is no student programming on this night. This event is only for weekly middle school volunteers and their families. We will honor and celebrate their amazing service throughout the past school year. \n\nLocation: Joe Budish’s house (500 Knoll Dr\, Norwalk)\nIf it rains: Valley Community Center\n\n[/nectar_responsive_text][nectar_btn size=”medium” open_new_tab=”true” button_style=”regular” button_color_2=”Accent-Color” icon_family=”none” text=”Register Now” url=”https://valleychurchdm.churchcenter.com/registrations/events/2626966″ margin_right=”10″][nectar_btn size=”medium” open_new_tab=”true” button_style=”regular” button_color_2=”Accent-Color” icon_family=”none” text=”Get Directions” url=”https://maps.app.goo.gl/fXNjTEErWtQyLDDN9″][/vc_column][/vc_row]
URL:https://valley.church/event/volunteer-dinner/
LOCATION:Joe Budish’s House\, 500 Knoll Dr\, Norwalk\, IA\, 50211\, United States
CATEGORIES:Middle School,Students
ATTACH;FMTTYPE=image/jpeg:https://valley.church/wp-content/uploads/2025/04/Volunteer-Dinner-600x338-1.jpg
END:VEVENT
END:VCALENDAR